BEGIN:VCALENDAR
VERSION:2.0
PRODID:-//Freiwillige Feuerwehr Hooksiel - ECPv6.6.4.2//NONSGML v1.0//EN
CALSCALE:GREGORIAN
METHOD:PUBLISH
X-WR-CALNAME:Freiwillige Feuerwehr Hooksiel
X-ORIGINAL-URL:https://feuerwehr-hooksiel.net
X-WR-CALDESC:Veranstaltungen für Freiwillige Feuerwehr Hooksiel
REFRESH-INTERVAL;VALUE=DURATION:PT1H
X-Robots-Tag:noindex
X-PUBLISHED-TTL:PT1H
BEGIN:VTIMEZONE
TZID:Europe/Berlin
BEGIN:DAYLIGHT
TZOFFSETFROM:+0100
TZOFFSETTO:+0200
TZNAME:CEST
DTSTART:20250330T010000
END:DAYLIGHT
BEGIN:STANDARD
TZOFFSETFROM:+0200
TZOFFSETTO:+0100
TZNAME:CET
DTSTART:20251026T010000
END:STANDARD
END:VTIMEZONE
BEGIN:VEVENT
DTSTART;TZID=Europe/Berlin:20250103T190000
DTEND;TZID=Europe/Berlin:20250103T190000
DTSTAMP:20260423T022739
CREATED:20240801T150948Z
LAST-MODIFIED:20240801T150948Z
UID:617-1735930800-1735930800@feuerwehr-hooksiel.net
SUMMARY:Ausbildungsdienst
DESCRIPTION:Einsatzabteilung
URL:https://feuerwehr-hooksiel.net/veranstaltung/ausbildungsdienst-15/
CATEGORIES:Dienstplan
END:VEVENT
BEGIN:VEVENT
DTSTART;TZID=Europe/Berlin:20250106T190000
DTEND;TZID=Europe/Berlin:20250106T190000
DTSTAMP:20260423T022739
CREATED:20240801T150948Z
LAST-MODIFIED:20240801T150948Z
UID:618-1736190000-1736190000@feuerwehr-hooksiel.net
SUMMARY:Feuerwehrabend
DESCRIPTION:Einsatzabteilung
URL:https://feuerwehr-hooksiel.net/veranstaltung/feuerwehrabend-31/
CATEGORIES:Dienstplan
END:VEVENT
BEGIN:VEVENT
DTSTART;TZID=Europe/Berlin:20250109T193000
DTEND;TZID=Europe/Berlin:20250109T193000
DTSTAMP:20260423T022739
CREATED:20240801T150958Z
LAST-MODIFIED:20240801T150958Z
UID:619-1736451000-1736451000@feuerwehr-hooksiel.net
SUMMARY:Ausbildungsdienst
DESCRIPTION:Einsatzabteilung
URL:https://feuerwehr-hooksiel.net/veranstaltung/ausbildungsdienst-16/
CATEGORIES:Dienstplan
END:VEVENT
BEGIN:VEVENT
DTSTART;TZID=Europe/Berlin:20250113T190000
DTEND;TZID=Europe/Berlin:20250113T190000
DTSTAMP:20260423T022739
CREATED:20240801T150959Z
LAST-MODIFIED:20240801T150959Z
UID:620-1736794800-1736794800@feuerwehr-hooksiel.net
SUMMARY:Feuerwehrabend
DESCRIPTION:Einsatzabteilung
URL:https://feuerwehr-hooksiel.net/veranstaltung/feuerwehrabend-32/
CATEGORIES:Dienstplan
END:VEVENT
BEGIN:VEVENT
DTSTART;TZID=Europe/Berlin:20250117T190000
DTEND;TZID=Europe/Berlin:20250117T190000
DTSTAMP:20260423T022739
CREATED:20240801T150959Z
LAST-MODIFIED:20240801T150959Z
UID:621-1737140400-1737140400@feuerwehr-hooksiel.net
SUMMARY:Ausbildungsdienst
DESCRIPTION:Einsatzabteilung
URL:https://feuerwehr-hooksiel.net/veranstaltung/ausbildungsdienst-17/
CATEGORIES:Dienstplan
END:VEVENT
BEGIN:VEVENT
DTSTART;TZID=Europe/Berlin:20250120T190000
DTEND;TZID=Europe/Berlin:20250120T190000
DTSTAMP:20260423T022739
CREATED:20240801T151000Z
LAST-MODIFIED:20240801T151000Z
UID:622-1737399600-1737399600@feuerwehr-hooksiel.net
SUMMARY:Feuerwehrabend
DESCRIPTION:Einsatzabteilung
URL:https://feuerwehr-hooksiel.net/veranstaltung/feuerwehrabend-33/
CATEGORIES:Dienstplan
END:VEVENT
BEGIN:VEVENT
DTSTART;TZID=Europe/Berlin:20250123T193000
DTEND;TZID=Europe/Berlin:20250123T193000
DTSTAMP:20260423T022739
CREATED:20240801T151000Z
LAST-MODIFIED:20240801T151000Z
UID:623-1737660600-1737660600@feuerwehr-hooksiel.net
SUMMARY:Mitgliederversammlung mit Wahlen Ortsbm.
DESCRIPTION:Einsatzabteilung+A&E
URL:https://feuerwehr-hooksiel.net/veranstaltung/mitgliederversammlung-mit-wahlen-ortsbm/
CATEGORIES:Dienstplan
END:VEVENT
BEGIN:VEVENT
DTSTART;TZID=Europe/Berlin:20250125T140000
DTEND;TZID=Europe/Berlin:20250125T140000
DTSTAMP:20260423T022739
CREATED:20240801T151016Z
LAST-MODIFIED:20240801T151016Z
UID:624-1737813600-1737813600@feuerwehr-hooksiel.net
SUMMARY:JHV Jugendfeuerwehr
DESCRIPTION:Alle
URL:https://feuerwehr-hooksiel.net/veranstaltung/jhv-jugendfeuerwehr/
CATEGORIES:Dienstplan
END:VEVENT
BEGIN:VEVENT
DTSTART;TZID=Europe/Berlin:20250125T190000
DTEND;TZID=Europe/Berlin:20250125T190000
DTSTAMP:20260423T022739
CREATED:20240801T151017Z
LAST-MODIFIED:20240801T151017Z
UID:625-1737831600-1737831600@feuerwehr-hooksiel.net
SUMMARY:JHV Feuerwehr Hooksiel
DESCRIPTION:Einsatzabteilung+A&E
URL:https://feuerwehr-hooksiel.net/veranstaltung/jhv-feuerwehr-hooksiel/
CATEGORIES:Dienstplan
END:VEVENT
BEGIN:VEVENT
DTSTART;TZID=Europe/Berlin:20250127T190000
DTEND;TZID=Europe/Berlin:20250127T190000
DTSTAMP:20260423T022739
CREATED:20240801T151017Z
LAST-MODIFIED:20240801T151017Z
UID:626-1738004400-1738004400@feuerwehr-hooksiel.net
SUMMARY:Feuerwehrabend
DESCRIPTION:Einsatzabteilung
URL:https://feuerwehr-hooksiel.net/veranstaltung/feuerwehrabend-34/
CATEGORIES:Dienstplan
END:VEVENT
END:VCALENDAR