BEGIN:VCALENDAR
VERSION:2.0
PRODID:-//Freiwillige Feuerwehr Hooksiel - ECPv6.6.4.2//NONSGML v1.0//EN
CALSCALE:GREGORIAN
METHOD:PUBLISH
X-WR-CALNAME:Freiwillige Feuerwehr Hooksiel
X-ORIGINAL-URL:https://feuerwehr-hooksiel.net
X-WR-CALDESC:Veranstaltungen für Freiwillige Feuerwehr Hooksiel
REFRESH-INTERVAL;VALUE=DURATION:PT1H
X-Robots-Tag:noindex
X-PUBLISHED-TTL:PT1H
BEGIN:VTIMEZONE
TZID:Europe/Berlin
BEGIN:DAYLIGHT
TZOFFSETFROM:+0100
TZOFFSETTO:+0200
TZNAME:CEST
DTSTART:20240331T010000
END:DAYLIGHT
BEGIN:STANDARD
TZOFFSETFROM:+0200
TZOFFSETTO:+0100
TZNAME:CET
DTSTART:20241027T010000
END:STANDARD
END:VTIMEZONE
BEGIN:VEVENT
DTSTART;TZID=Europe/Berlin:20241111T160000
DTEND;TZID=Europe/Berlin:20241111T160000
DTSTAMP:20260423T063431
CREATED:20240801T150700Z
LAST-MODIFIED:20240801T150700Z
UID:596-1731340800-1731340800@feuerwehr-hooksiel.net
SUMMARY:Laternenumzug - St. Martinsumzug zum G stehaus
DESCRIPTION:Einsatzabteilung
URL:https://feuerwehr-hooksiel.net/veranstaltung/laternenumzug-st-martinsumzug-zum-g-stehaus/
CATEGORIES:Dienstplan
END:VEVENT
BEGIN:VEVENT
DTSTART;TZID=Europe/Berlin:20241111T190000
DTEND;TZID=Europe/Berlin:20241111T190000
DTSTAMP:20260423T063431
CREATED:20240801T150701Z
LAST-MODIFIED:20240801T150701Z
UID:597-1731351600-1731351600@feuerwehr-hooksiel.net
SUMMARY:Feuerwehrabend
DESCRIPTION:Einsatzabteilung
URL:https://feuerwehr-hooksiel.net/veranstaltung/feuerwehrabend-23/
CATEGORIES:Dienstplan
END:VEVENT
END:VCALENDAR