BEGIN:VCALENDAR
VERSION:2.0
PRODID:-//Freiwillige Feuerwehr Hooksiel - ECPv6.6.4.2//NONSGML v1.0//EN
CALSCALE:GREGORIAN
METHOD:PUBLISH
X-ORIGINAL-URL:https://feuerwehr-hooksiel.net
X-WR-CALDESC:Veranstaltungen für Freiwillige Feuerwehr Hooksiel
REFRESH-INTERVAL;VALUE=DURATION:PT1H
X-Robots-Tag:noindex
X-PUBLISHED-TTL:PT1H
BEGIN:VTIMEZONE
TZID:Europe/Berlin
BEGIN:DAYLIGHT
TZOFFSETFROM:+0100
TZOFFSETTO:+0200
TZNAME:CEST
DTSTART:20240331T010000
END:DAYLIGHT
BEGIN:STANDARD
TZOFFSETFROM:+0200
TZOFFSETTO:+0100
TZNAME:CET
DTSTART:20241027T010000
END:STANDARD
END:VTIMEZONE
BEGIN:VEVENT
DTSTART;TZID=Europe/Berlin:20240802T100000
DTEND;TZID=Europe/Berlin:20240804T180000
DTSTAMP:20260423T105628
CREATED:20240722T095157Z
LAST-MODIFIED:20240730T085829Z
UID:105-1722592800-1722794400@feuerwehr-hooksiel.net
SUMMARY:Hooksieler Krabbentage am Alten Hafen
DESCRIPTION:
URL:https://feuerwehr-hooksiel.net/veranstaltung/hooksieler-krabbentage-am-alten-hafen/
LOCATION:Alter Hafen Hooksiel\, Am Hafen 1\, Wangerland\, 26434\, Deutschland
CATEGORIES:Veranstaltungen
END:VEVENT
BEGIN:VEVENT
DTSTART;TZID=Europe/Berlin:20240803T110000
DTEND;TZID=Europe/Berlin:20240803T110000
DTSTAMP:20260423T105628
CREATED:20240801T150253Z
LAST-MODIFIED:20240801T150253Z
UID:557-1722682800-1722682800@feuerwehr-hooksiel.net
SUMMARY:Krabbentage
DESCRIPTION:Alle
URL:https://feuerwehr-hooksiel.net/veranstaltung/krabbentage-2/
CATEGORIES:Dienstplan
END:VEVENT
END:VCALENDAR