BEGIN:VCALENDAR
VERSION:2.0
PRODID:-//Freiwillige Feuerwehr Hooksiel - ECPv6.6.4.2//NONSGML v1.0//EN
CALSCALE:GREGORIAN
METHOD:PUBLISH
X-ORIGINAL-URL:https://feuerwehr-hooksiel.net
X-WR-CALDESC:Veranstaltungen für Freiwillige Feuerwehr Hooksiel
REFRESH-INTERVAL;VALUE=DURATION:PT1H
X-Robots-Tag:noindex
X-PUBLISHED-TTL:PT1H
BEGIN:VTIMEZONE
TZID:Europe/Berlin
BEGIN:DAYLIGHT
TZOFFSETFROM:+0100
TZOFFSETTO:+0200
TZNAME:CEST
DTSTART:20240331T010000
END:DAYLIGHT
BEGIN:STANDARD
TZOFFSETFROM:+0200
TZOFFSETTO:+0100
TZNAME:CET
DTSTART:20241027T010000
END:STANDARD
END:VTIMEZONE
BEGIN:VEVENT
DTSTART;TZID=Europe/Berlin:20240728T110000
DTEND;TZID=Europe/Berlin:20240728T110000
DTSTAMP:20260423T121444
CREATED:20240801T150238Z
LAST-MODIFIED:20240801T150238Z
UID:553-1722164400-1722164400@feuerwehr-hooksiel.net
SUMMARY:Fr hschoppen unter den Linden Wiarden
DESCRIPTION:Alle
URL:https://feuerwehr-hooksiel.net/veranstaltung/fr-hschoppen-unter-den-linden-wiarden/
CATEGORIES:Dienstplan
END:VEVENT
END:VCALENDAR